1.0000000000
0.0000000000
0.0000000000
-1.0000000000
249620.5000000000
4459949.5000000000
