1.0000000000
0.0000000000
0.0000000000
-1.0000000000
244298.5000000000
4460127.5000000000
