1.0000000000
0.0000000000
0.0000000000
-1.0000000000
244064.5000000000
4453188.5000000000
