1.0000000000
0.0000000000
0.0000000000
-1.0000000000
260263.5000000000
4459604.5000000000
