1.0000000000
0.0000000000
0.0000000000
-1.0000000000
254942.5000000000
4459775.5000000000
