1.0000000000
0.0000000000
0.0000000000
-1.0000000000
260043.5000000000
4452665.5000000000
