1.0000000000
0.0000000000
0.0000000000
-1.0000000000
270906.5000000000
4459274.5000000000
