1.0000000000
0.0000000000
0.0000000000
-1.0000000000
270696.5000000000
4452336.5000000000
