1.0000000000
0.0000000000
0.0000000000
-1.0000000000
281548.5000000000
4458959.5000000000
