1.0000000000
0.0000000000
0.0000000000
-1.0000000000
276227.5000000000
4459115.5000000000
