1.0000000000
0.0000000000
0.0000000000
-1.0000000000
281348.5000000000
4452021.5000000000
