1.0000000000
0.0000000000
0.0000000000
-1.0000000000
286870.5000000000
4458807.5000000000
