1.0000000000
0.0000000000
0.0000000000
-1.0000000000
249161.5000000000
4446072.5000000000
