1.0000000000
0.0000000000
0.0000000000
-1.0000000000
243830.5000000000
4446250.5000000000
