1.0000000000
0.0000000000
0.0000000000
-1.0000000000
248932.5000000000
4439133.5000000000
