1.0000000000
0.0000000000
0.0000000000
-1.0000000000
243596.5000000000
4439311.5000000000
