1.0000000000
0.0000000000
0.0000000000
-1.0000000000
259824.5000000000
4445727.5000000000
