1.0000000000
0.0000000000
0.0000000000
-1.0000000000
254492.5000000000
4445897.5000000000
