1.0000000000
0.0000000000
0.0000000000
-1.0000000000
259604.5000000000
4438789.5000000000
