1.0000000000
0.0000000000
0.0000000000
-1.0000000000
270277.5000000000
4438459.5000000000
