1.0000000000
0.0000000000
0.0000000000
-1.0000000000
264940.5000000000
4438622.5000000000
