1.0000000000
0.0000000000
0.0000000000
-1.0000000000
275817.5000000000
4445238.5000000000
