1.0000000000
0.0000000000
0.0000000000
-1.0000000000
280948.5000000000
4438144.5000000000
