1.0000000000
0.0000000000
0.0000000000
-1.0000000000
286479.5000000000
4444931.5000000000
