1.0000000000
0.0000000000
0.0000000000
-1.0000000000
296956.5000000000
4437700.5000000000
