1.0000000000
0.0000000000
0.0000000000
-1.0000000000
673160.5000000000
4541235.5000000000
