1.0000000000
0.0000000000
0.0000000000
-1.0000000000
667903.5000000000
4541109.5000000000
