1.0000000000
0.0000000000
0.0000000000
-1.0000000000
673324.5000000000
4534297.5000000000
