1.0000000000
0.0000000000
0.0000000000
-1.0000000000
668062.5000000000
4534171.5000000000
