1.0000000000
0.0000000000
0.0000000000
-1.0000000000
683674.5000000000
4541499.5000000000
