1.0000000000
0.0000000000
0.0000000000
-1.0000000000
704702.5000000000
4542072.5000000000
