1.0000000000
0.0000000000
0.0000000000
-1.0000000000
699445.5000000000
4541923.5000000000
