1.0000000000
0.0000000000
0.0000000000
-1.0000000000
704895.5000000000
4535133.5000000000
