1.0000000000
0.0000000000
0.0000000000
-1.0000000000
699633.5000000000
4534984.5000000000
