1.0000000000
0.0000000000
0.0000000000
-1.0000000000
715216.5000000000
4542381.5000000000
