1.0000000000
0.0000000000
0.0000000000
-1.0000000000
720473.5000000000
4542541.5000000000
