1.0000000000
0.0000000000
0.0000000000
-1.0000000000
720682.5000000000
4535602.5000000000
