1.0000000000
0.0000000000
0.0000000000
-1.0000000000
736244.5000000000
4543043.5000000000
