1.0000000000
0.0000000000
0.0000000000
-1.0000000000
736468.5000000000
4536104.5000000000
