1.0000000000
0.0000000000
0.0000000000
-1.0000000000
731206.5000000000
4535933.5000000000
