1.0000000000
0.0000000000
0.0000000000
-1.0000000000
741730.5000000000
4536279.5000000000
