1.0000000000
0.0000000000
0.0000000000
-1.0000000000
668379.5000000000
4520293.5000000000
