1.0000000000
0.0000000000
0.0000000000
-1.0000000000
684021.5000000000
4527622.5000000000
