1.0000000000
0.0000000000
0.0000000000
-1.0000000000
678754.5000000000
4527488.5000000000
