1.0000000000
0.0000000000
0.0000000000
-1.0000000000
678923.5000000000
4520549.5000000000
