1.0000000000
0.0000000000
0.0000000000
-1.0000000000
694555.5000000000
4527900.5000000000
