1.0000000000
0.0000000000
0.0000000000
-1.0000000000
705089.5000000000
4528194.5000000000
