1.0000000000
0.0000000000
0.0000000000
-1.0000000000
705282.5000000000
4521255.5000000000
