1.0000000000
0.0000000000
0.0000000000
-1.0000000000
700010.5000000000
4521106.5000000000
