1.0000000000
0.0000000000
0.0000000000
-1.0000000000
715826.5000000000
4521563.5000000000
